BEGIN:VCALENDAR
VERSION:2.0
PRODID:-//Região Campinas - ECPv6.15.20//NONSGML v1.0//EN
CALSCALE:GREGORIAN
METHOD:PUBLISH
X-ORIGINAL-URL:https://regiaocampinas.org.br
X-WR-CALDESC:Eventos para Região Campinas
REFRESH-INTERVAL;VALUE=DURATION:PT1H
X-Robots-Tag:noindex
X-PUBLISHED-TTL:PT1H
BEGIN:VTIMEZONE
TZID:America/Sao_Paulo
BEGIN:STANDARD
TZOFFSETFROM:-0200
TZOFFSETTO:-0300
TZNAME:-03
DTSTART:20170219T020000
END:STANDARD
BEGIN:DAYLIGHT
TZOFFSETFROM:-0300
TZOFFSETTO:-0200
TZNAME:-02
DTSTART:20171015T030000
END:DAYLIGHT
BEGIN:STANDARD
TZOFFSETFROM:-0200
TZOFFSETTO:-0300
TZNAME:-03
DTSTART:20180218T020000
END:STANDARD
BEGIN:DAYLIGHT
TZOFFSETFROM:-0300
TZOFFSETTO:-0200
TZNAME:-02
DTSTART:20181104T030000
END:DAYLIGHT
BEGIN:STANDARD
TZOFFSETFROM:-0200
TZOFFSETTO:-0300
TZNAME:-03
DTSTART:20190217T020000
END:STANDARD
END:VTIMEZONE
BEGIN:VEVENT
DTSTART;TZID=America/Sao_Paulo:20191003T080000
DTEND;TZID=America/Sao_Paulo:20191003T170000
DTSTAMP:20260423T194950
CREATED:20190330T204646Z
LAST-MODIFIED:20190330T204756Z
UID:2340-1570089600-1570122000@regiaocampinas.org.br
SUMMARY:Encontro Unicamp Ventures
DESCRIPTION:Vem ai\, o Encontro Unicamp Ventures para fortalecer o ecossistema empreendedor. \nA conexão entre os empreendedores da Unicamp é o que fortalece o ecossistema. Por isso\, todos os anos é realizado o Encontro Unicamp Ventures. \nNa ocasião\, são debatidos temas de relevância para as startups e são apresentados o balanço e indicadores relacionados às empresas-filhas no último ano. \nDurante o evento\, também são realizados os pitches dos finalistas do Prêmio Empreendedor e anunciado quem será o Empreendedor do Ano. \nEm 2018\, o encontro foi no dia 24 de outubro durante o InovaCampinas\, que ocorreu na Expo Dom Pedro. \nPara mais informações\, acesse: https://www.inova.unicamp.br/unicampventures/encontro-anual/
URL:https://regiaocampinas.org.br/event/encontro-unicamp-ventures/
LOCATION:FCM Unicamp\, R. Tessália Vieira de Camargo\, 126 - Cidade Universitária\, Campinas\, São Paulo\, Brasil
ATTACH;FMTTYPE=image/png:https://regiaocampinas.org.br/wp-content/uploads/2019/03/logo-2.png
END:VEVENT
BEGIN:VEVENT
DTSTART;TZID=America/Sao_Paulo:20190824T080000
DTEND;TZID=America/Sao_Paulo:20190824T170000
DTSTAMP:20260423T194950
CREATED:20190330T205207Z
LAST-MODIFIED:20190330T205207Z
UID:2347-1566633600-1566666000@regiaocampinas.org.br
SUMMARY:Workshop Inova Jovem
DESCRIPTION:O Workshop oferece capacitação em Lean Canvas e Treinamento em Pitch para auxiliar os alunos na elaboração do Canvas e apresentações dos projetos. Neste dia\, os alunos interessados em participar da competição deverão formar suas equipes e inscrever esses times com os projetos para a semifinal. \nPara mais informações\, acesse: https://www.inova.unicamp.br/eventos-inova/save-the-date-24-08-workshop-inova-jovem/
URL:https://regiaocampinas.org.br/event/workshop-inova-jovem/
LOCATION:São Paulo
ATTACH;FMTTYPE=image/jpeg:https://regiaocampinas.org.br/wp-content/uploads/2019/03/ino.jpg
END:VEVENT
BEGIN:VEVENT
DTSTART;TZID=America/Sao_Paulo:20190606T083000
DTEND;TZID=America/Sao_Paulo:20190607T173000
DTSTAMP:20260423T194950
CREATED:20190330T184702Z
LAST-MODIFIED:20190330T190052Z
UID:2315-1559809800-1559928600@regiaocampinas.org.br
SUMMARY:Curso: Gerenciamento por indicadores: Como e por que medir e avaliar o desempenho de sua empresa
DESCRIPTION:Curso oferecido pelo Ciesp Campinas\, com o tema Liderança Empreendedora\, o curso é voltado para gestores em geral\, pessoas que queiram se preparar para assumir posições de gestão; Você que valoriza sua profissão e entende o quanto é importante te uma formação de qualidade; Todas as pessoas que acreditam que possam melhorar seu desempenho em time. \nInscrições até 26/05/2019 \nPara conferir a matéria completa e realizar as inscrições\, acesse o link do evento:\nhttp://www.ciespcampinas.org.br/site/agenda/cursos_abertos/2239/2019/06/lideranca-empreendedora/
URL:https://regiaocampinas.org.br/event/curso-gerenciamento-por-indicadores-como-e-por-que-medir-e-avaliar-o-desempenho-de-sua-empresa/
LOCATION:Ciesp – Campinas\, R. Padre Camargo Lacerda\, 37\, Campinas\, São Paulo\, 13070-277\, Brasil
ATTACH;FMTTYPE=image/jpeg:https://regiaocampinas.org.br/wp-content/uploads/2018/12/ciesp-585x261.jpg
END:VEVENT
BEGIN:VEVENT
DTSTART;TZID=America/Sao_Paulo:20190518T083000
DTEND;TZID=America/Sao_Paulo:20190518T163000
DTSTAMP:20260423T194950
CREATED:20190330T192920Z
LAST-MODIFIED:20190330T192920Z
UID:2321-1558168200-1558197000@regiaocampinas.org.br
SUMMARY:Workshop Desafio Unicamp
DESCRIPTION:Organizado pela Inova Unicamp\, o Desafio Unicamp chega em sua nova edição 2019\, o evento é uma competição de empreendedorismo com base em tecnologias da Unicamp. \nTem como objetivo principal o estímulo a criação de empresas spin-off a partir de patentes e programas de computador protegidos pela Unicamp. Além disso\, capacita os participantes em metodologias de modelagem de negócios e apresenta o empreendedorismo tecnológico como opção de carreira. \nPara mais informações acesse: https://www.inova.unicamp.br/desafio/
URL:https://regiaocampinas.org.br/event/workshop-desafio-unicamp/
LOCATION:Expo Dom Pedro\, Av. Guilherme Campos\, 500\, Campinas\, São Paulo\, 13087-901\, Brasil
ATTACH;FMTTYPE=image/png:https://regiaocampinas.org.br/wp-content/uploads/2019/03/desafio.png
END:VEVENT
BEGIN:VEVENT
DTSTART;TZID=America/Sao_Paulo:20190509T080000
DTEND;TZID=America/Sao_Paulo:20190509T170000
DTSTAMP:20260423T194950
CREATED:20190330T195604Z
LAST-MODIFIED:20190330T200039Z
UID:2325-1557388800-1557421200@regiaocampinas.org.br
SUMMARY:I Workshop Sobre Urban Farming
DESCRIPTION:O Workshop realizado pelo IAC\, é voltado para profissionais da cadeia produtiva relacionados a inovação tecnológica ligada a Urban Farming\, produtores\, alunos de graduação e pós-graduação\, professores e pesquisadores. \nPara mais informações\, acesse: http://www.iac.sp.gov.br/eventos/eventos/eventos.php?mes=maio&ano=2019
URL:https://regiaocampinas.org.br/event/i-workshop-sobre-urban-farming/
LOCATION:IAC\, Barão de Itapura\, 1481\, Campinas\, São Paulo\, Brasil
ATTACH;FMTTYPE=image/png:https://regiaocampinas.org.br/wp-content/uploads/2019/03/logo-1.png
END:VEVENT
BEGIN:VEVENT
DTSTART;VALUE=DATE:20190318
DTEND;VALUE=DATE:20190323
DTSTAMP:20260423T194950
CREATED:20181202T004648Z
LAST-MODIFIED:20181202T004648Z
UID:1923-1552867200-1553299199@regiaocampinas.org.br
SUMMARY:IFGW realiza Curso de Verão 2019. Inscrições já estão abertas
DESCRIPTION:Com a temática “A Física Computacional”\, o Instituto de Física “Gleb Wataghin” (IFGW) realizará entre 18 e 22 de fevereiro\, o seu Curso de Verão 2019. As inscriçõesjá estão abertas. O Curso é voltado principalmente aos estudantes que estejam no final do curso de graduação em Física\, e também Matemática\, Química e Engenharias\, assim como estudantes em estágio inicial de cursos de pós-graduação\, que queiram conhecer melhor o IFGW. O Curso será realizado no Auditório do Instituto e está sob a responsabilidade do professor Mário Bernal. Mais detalhes podem ser obtidos pelo site https://sites.ifi.unicamp.br/veraoifgw/\, e-mail extensao@ifi.unicamp.br ou telefone 19-3521-5286. \nFonte: PORTAL DA UNICAMP
URL:https://regiaocampinas.org.br/event/ifgw-realiza-curso-de-verao-2019-inscricoes-ja-estao-abertas/
LOCATION:São Paulo
ATTACH;FMTTYPE=image/jpeg:https://regiaocampinas.org.br/wp-content/uploads/2018/12/curso_verão_IFGW450.jpg
END:VEVENT
BEGIN:VEVENT
DTSTART;VALUE=DATE:20190211
DTEND;VALUE=DATE:20190213
DTSTAMP:20260423T194950
CREATED:20181203T125532Z
LAST-MODIFIED:20181203T125532Z
UID:2002-1549843200-1550015999@regiaocampinas.org.br
SUMMARY:Como otimizar os custos e formar preços competitivos
DESCRIPTION:O Objetivo do Curso é proporcionar ao público-alvo as condições necessárias para que se possa além de realizar o custeio e a precificação\, que são fundamentalmente importantes\, mas de definir uma política de preços e de mix que seja atrativa\, lucrativa\, rentável e coerente. \nInscrições até  03/02/2019. \n 
URL:https://regiaocampinas.org.br/event/como-otimizar-os-custos-e-formar-precos-competitivos/
LOCATION:Ciesp – Campinas\, R. Padre Camargo Lacerda\, 37\, Campinas\, São Paulo\, 13070-277\, Brasil
ATTACH;FMTTYPE=image/jpeg:https://regiaocampinas.org.br/wp-content/uploads/2018/12/ciesp-585x261.jpg
END:VEVENT
BEGIN:VEVENT
DTSTART;TZID=America/Sao_Paulo:20181215T120000
DTEND;TZID=America/Sao_Paulo:20181215T180000
DTSTAMP:20260423T194950
CREATED:20181202T004411Z
LAST-MODIFIED:20181203T125200Z
UID:1919-1544875200-1544896800@regiaocampinas.org.br
SUMMARY:Instituto de Computação organiza Curso de Aperfeiçoamento em Mineração de Dados Complexos da Unicamp
DESCRIPTION:O Instituto de Computação (IC) organiza\, dia 15 de dezembro\, às 12 horas\, o Curso de Aperfeiçoamento em Mineração de Dados Complexos da Unicamp.  Destinado aos profissionais de informática\, o curso abordará as principais técnicas de Ciência de Dados\, como recuperação\, análise e visualização de informação\, tratamento de grandes volumes de dados (Big Data)\, além das mais modernas técnicas de Inteligência Artificial e Aprendizado de Máquina (supervisionado e não supervisionado)\, inclusive Deep Learning. Inscrições e outras informações no site https://ic.unicamp.br/~mdc. Mais detalhes pelo e-mail mdc@ic.unicamp.br ou telefone (19) 3521-5861. \nFonte: PORTAL UNICAMP
URL:https://regiaocampinas.org.br/event/instituto-de-computacao-organiza-curso-de-aperfeicoamento-em-mineracao-de-dados-complexos-da-unicamp/
LOCATION:Instituto de Computação (IC)
ATTACH;FMTTYPE=image/png:https://regiaocampinas.org.br/wp-content/uploads/2018/12/ic.png
END:VEVENT
BEGIN:VEVENT
DTSTART;TZID=America/Sao_Paulo:20181107T130000
DTEND;TZID=America/Sao_Paulo:20181107T180000
DTSTAMP:20260423T194950
CREATED:20181006T194603Z
LAST-MODIFIED:20181006T194603Z
UID:1630-1541595600-1541613600@regiaocampinas.org.br
SUMMARY:Encontro de Negócios
DESCRIPTION:É de conhecimento no meio empresarial que o networking é responsável por centenas de bons negócios\, mas para que ele aconteça as pessoas devem ter acesso umas às outras\, por isso resolvemos facilitar esse processo com a Rodada de Negócios. \nEssa modalidade de geração de negócios é a oportunidade mais barata e eficiente para vendedores e compradores\, uma vez que em uma única tarde\, das 13h às 18 horas\, o representante da empresa participante pode ter contato com dezenas de outros futuros parceiros.
URL:https://regiaocampinas.org.br/event/encontro-de-negocios/
LOCATION:Expo Dom Pedro\, Av. Guilherme Campos\, 500\, Campinas\, São Paulo\, 13087-901\, Brasil
ATTACH;FMTTYPE=image/png:https://regiaocampinas.org.br/wp-content/uploads/2018/10/ww.png
END:VEVENT
BEGIN:VEVENT
DTSTART;TZID=America/Sao_Paulo:20181025T080000
DTEND;TZID=America/Sao_Paulo:20181025T170000
DTSTAMP:20260423T194950
CREATED:20181006T193854Z
LAST-MODIFIED:20181006T194742Z
UID:1626-1540454400-1540486800@regiaocampinas.org.br
SUMMARY:Apresentação do Centro de Negócios Integrare
DESCRIPTION:Um dos cases que demonstra o sucesso da atuação do Integrare é a agência de comunicação MCM Brand Experience. Acolhida pela OSCIP há cerca de 11 anos\, a agência e sua CEO\, a empresária Mônica Schimenes\, conseguiram desenvolver projetos de grande porte ao lado de empresas multinacionais que também valorizam a diversidade humana\, como a IBM Brasil e\, atualmente\, a Monsanto. \nAlém das duas empresas\, outras de grande porte apoiam e trabalham junto ao Integrare\, como a Basf\, a Bayer e a DuPont. A organização continua a buscar disseminar informações com o intuito de atender e capacitar cada vez mais empreendedores ligados às minorias étnicas e sociais apoiadas. Tem como beneficiário MPEs de empresários que sejam afrodescendente\, pessoa com deficiência ou descendente indígena que historicamente tiveram ausência de oportunidades sociais e econômicas. \nAtualmente\, a organização também desenvolve trabalho muito próximo à Monsanto\, no seu programa de fomento à diversidade.
URL:https://regiaocampinas.org.br/event/1626/
LOCATION:Ciesp – Campinas\, R. Padre Camargo Lacerda\, 37\, Campinas\, São Paulo\, 13070-277\, Brasil
ATTACH;FMTTYPE=image/png:https://regiaocampinas.org.br/wp-content/uploads/2018/10/qq.png
END:VEVENT
BEGIN:VEVENT
DTSTART;TZID=America/Sao_Paulo:20181024T080000
DTEND;TZID=America/Sao_Paulo:20181025T170000
DTSTAMP:20260423T194950
CREATED:20181006T165927Z
LAST-MODIFIED:20181006T165927Z
UID:1613-1540368000-1540486800@regiaocampinas.org.br
SUMMARY:InovaUnicamp: empreendedorismo e inovação
DESCRIPTION:Guarde na sua agenda a data do maior evento de empreendedorismo do inovação do interior de São Paulo. \nO InovaCampinas reúne diversas trilhas de atividades gratuitas em um único evento e está marcado para os dias 24 e 25 de outubro de 2018 na Expo Dom Pedro. \nEntre as diversas atividades que disponíveis há as rodadas de negócios\, conferências e exposições. \nVocê pode participar de quanto temas diferentes deseja\, sendo que dentro de cada tema pode haver mais de um evento ocorrendo junto. \nAs trilhas dentro do InovaCampinas 2018 são: \n\nAgro com evento Mais Valor Agro\nTecnologia da Informação (TI) com IOT Experience e SWXP\nEmpreendedorismo com High Impact Forum\, Iaprendi Talks\, Inova Jovem\, Unicamp Ventures e InovaSocialAmbiental\nInovação com Seminário Amcham\, Santander Universidades\, O Futuro do Território e da Indústria e Painel: Redes de Inovação
URL:https://regiaocampinas.org.br/event/inovaunicamp-empreendedorismo-e-inovacao/
LOCATION:Expo Dom Pedro\, Av. Guilherme Campos\, 500\, Campinas\, São Paulo\, 13087-901\, Brasil
ATTACH;FMTTYPE=image/jpeg:https://regiaocampinas.org.br/wp-content/uploads/2018/10/37230191694_3f8a5437a9_k-1024x682-1024x682.jpg
END:VEVENT
BEGIN:VEVENT
DTSTART;TZID=America/Sao_Paulo:20181024T080000
DTEND;TZID=America/Sao_Paulo:20181025T170000
DTSTAMP:20260423T194950
CREATED:20181006T165011Z
LAST-MODIFIED:20181006T165011Z
UID:1610-1540368000-1540486800@regiaocampinas.org.br
SUMMARY:SWXP – Software Experience 2018
DESCRIPTION:A feira compõe a trilha de Tecnologia da Informação (TI) no InovaCampinas e promove imersão na tecnologia com diferentes atividade: \n\nExposição de trabalhos e protótipos na Área Demo\,\nHackathon\nOficinas\nPalestras.\n\nAlém de um espaço para se atualizar\, a SWXP é um ambiente para enriquecer a rede de contatos. \nO evento está agendado para ocorrer nos dias 24 e 25 de outubro durante o InovaCampinas.
URL:https://regiaocampinas.org.br/event/swxp-software-experience-2018/
LOCATION:Expo Dom Pedro\, Av. Guilherme Campos\, 500\, Campinas\, São Paulo\, 13087-901\, Brasil
ATTACH;FMTTYPE=image/jpeg:https://regiaocampinas.org.br/wp-content/uploads/2018/10/inova-pedro-amatuzzi-71-1024x683.jpg
END:VEVENT
BEGIN:VEVENT
DTSTART;TZID=America/Sao_Paulo:20181024T080000
DTEND;TZID=America/Sao_Paulo:20181024T170000
DTSTAMP:20260423T194950
CREATED:20181006T170508Z
LAST-MODIFIED:20181006T170708Z
UID:1616-1540368000-1540400400@regiaocampinas.org.br
SUMMARY:Encontro Anual Unicamp Ventures
DESCRIPTION:Já tem data marcada o evento que reúne as empresas-filhas da Universidade Estadual de Campinas (Unicamp) para debater empreendedorismo e fazer um balanço do último ano. \nNeste mesmo dia\, serão divulgados os resultados dos empreendimentos gerenciados por ex-alunos\, funcionários\, docentes e empresas incubadas pela Unicamp com o diretor-executivo da Inova Unicamp\, Newton Frateschi\, com o Painel de abertura e indicadores das empresas-filhas. \nEntre os dados dessas empresas-filhas\, serão apresentados o número de empresas ativas\, faturamento anual geral e empregos gerados\, principalmente na região de Campinas\, onde está localizada a maioria das empresas-filhas da Unicamp. \nOs participantes ainda podem participar do keynote com André Penha\, co-fundador e CTO da empresa “Quinto Andar” um serviço imobiliário online. \nTambém está previsto para esse dia de uma mesa-redonda para debater o ecossistema empreendedor e os pitches dos finalistas para o Prêmio Empreendedor do Ano. \nTodas as empresas-filhas da Unicamp cadastradas podem se inscrever para concorrer ao Prêmio Empreendedor\, sendo possível se inscrever em três categorias diferentes: \n\nCase de Inovação\nCase de Impacto Social\nCase de Maior Crescimento
URL:https://regiaocampinas.org.br/event/encontro-anual-unicamp-ventures/
LOCATION:São Paulo
ATTACH;FMTTYPE=image/jpeg:https://regiaocampinas.org.br/wp-content/uploads/2018/10/IMG_1160-1024x683.jpg
END:VEVENT
BEGIN:VEVENT
DTSTART;TZID=America/Sao_Paulo:20181024T080000
DTEND;TZID=America/Sao_Paulo:20181024T170000
DTSTAMP:20260423T194950
CREATED:20181006T163921Z
LAST-MODIFIED:20181006T164229Z
UID:1607-1540368000-1540400400@regiaocampinas.org.br
SUMMARY:Final do programa Inova Jovem 2018
DESCRIPTION:Este é o 5º ano que realizamos mais um  programa Inova Jovem\, uma competição de empreendedorismo que capacita e estimula alunos do Ensino Médio regular e técnico de todo o Brasil. \nEsses alunos recebem mentoria sobre negócios e inovação\, a fim de o empreendedorismo também ser visto como uma opção de carreira entre os participantes. Entre as capacitações estão as áreas de Design Thinking\, Lean Canvas e Pitch. \nPara continuidade do processo\, serão anunciados os seis melhores projetos no dia 09 de outubro\, que deverão apresentar seus modelos de negócios para avaliação na fase final da competição. \nO evento final será realizada durante o InovaCampinas\, que acontecerá na Expo Dom Pedro em Campinas\, interior de São Paulo. \nCada membro da equipe vencedora receberá R$ 1 mil e uma certificação. \nVenha conhecer esses projetos finalistas e quem serão os jovens premiados na edição de 2018!
URL:https://regiaocampinas.org.br/event/final-do-programa-inova-jovem-2018/
LOCATION:Expo Dom Pedro\, Av. Guilherme Campos\, 500\, Campinas\, São Paulo\, 13087-901\, Brasil
ATTACH;FMTTYPE=image/jpeg:https://regiaocampinas.org.br/wp-content/uploads/2018/10/IMG_3010-1024x683.jpg
END:VEVENT
BEGIN:VEVENT
DTSTART;VALUE=DATE:20181024
DTEND;VALUE=DATE:20181026
DTSTAMP:20260423T194950
CREATED:20180822T014612Z
LAST-MODIFIED:20180822T015128Z
UID:1347-1540339200-1540511999@regiaocampinas.org.br
SUMMARY:InovaCampinas
DESCRIPTION:Visite o site do evento: http://inovacampinas.org.br/ \nO InovaCampinas consolida-se como o maior evento de empreendedorismo e inovação do interior. Com o objetivo de promover rodadas de negócios\, demonstrar o potencial tecnológico e apresentar as novas tendências para o ecossistema inovador da região de Campinas\, em sua 5ª edição em 2018\, reunirá em um mesmo espaço\, empresas\, startups\, instituições de pesquisa\, universidades\, incubadoras\, aceleradoras e parques científicos e tecnológicos da região. \nEm 2018\, o evento ocorre no Expo D.Pedro\, em Campinas. Com mais de 10 horas de duração\, reunirá cerca de 10 mil pessoas\, contando com a exposição de cerca de 90 empresas\, mais de 350 rodadas de negócios\, além de 20 conferências divididas em três auditórios. Realizado pela Fundação Fórum Campinas Inovadora\, o evento conta com o apoio e patrocínio de importantes empresas e parceiros que acreditam e contribuem com o potencial inovador e empreendedor da nossa região.
URL:https://regiaocampinas.org.br/event/inovacampinas/
LOCATION:Expo Dom Pedro\, Av. Guilherme Campos\, 500\, Campinas\, São Paulo\, 13087-901\, Brasil
ATTACH;FMTTYPE=image/jpeg:https://regiaocampinas.org.br/wp-content/uploads/2018/08/FFC_site_180507_1_eventoFB.jpg
END:VEVENT
BEGIN:VEVENT
DTSTART;TZID=America/Sao_Paulo:20181023T080000
DTEND;TZID=America/Sao_Paulo:20181024T170000
DTSTAMP:20260423T194950
CREATED:20181006T180518Z
LAST-MODIFIED:20181006T180518Z
UID:1622-1540281600-1540400400@regiaocampinas.org.br
SUMMARY:BRAINSTORMERS 2018 - 4ª Jornada de Design Digital PUC-Campinas
DESCRIPTION:A Diretoria do curso de Design Digital convida os membros da Comunidade da PUC-Campinas (Alunos\, Professores\, Funcionários e Egressos) para participarem do BRAINSTORMERS 2018 – 4ª JORNADA DO CURSO DE DESIGN DIGITAL DA PUC-CAMPINAS. \nEm sua quarta edição o evento propõe um debate sobre o papel do designer digital e sua atuação no mercado de trabalho. Profissionais renomados discutirão as oportunidades e os desafios da área de Design Digital\, por meio de temas como criatividade\, inovação\, branding\, identidade visual\, design de interação\, entre outros que repercutem no complexo cenário da economia criativa e das interfaces digitais. \nO evento ocorrerá nos dias 23 e 24 de outubro de 2018\, das 08h00min às 11h30min\, no Novo Prédio do CCHSA – Auditório Cardeal Agnelo Rossi – Campus I\, PUC-Campinas. \nA entrada é franca \n  \nProgramação:  \n23/10 – TERÇA-FEIRA – 8h00 às 11h35\nPainel: “UX e Design Disruptivo” \n– Daniel Furtado (Weezen / Canal UXNow) \n– Don Possignolo (Bee Creative) \n 24/10 – QUARTA-FEIRA – 8h00 às 11h35 \nPainel: “Criatividade e Intervenção Urbana” \n– Luis Bueno (Pelé Beijoqueiro / IED) \n– Felipe Valério (Interbrand) \nPúblico Alvo: \nAlunos\, professores\, funcionários e público externo.
URL:https://regiaocampinas.org.br/event/brainstormers-2018-4a-jornada-de-design-digital-puc-campinas/
LOCATION:Auditório Cardeal Agnelo Rossi – Campus I\, Av. Card Dom Agnelo Rossi\, 364-448 - Parque dos Jacarandás\, Campinas\, São Paulo\, Brasil
ATTACH;FMTTYPE=image/jpeg:https://regiaocampinas.org.br/wp-content/uploads/2018/10/monitor-1307227_1280-696x491.jpg
END:VEVENT
BEGIN:VEVENT
DTSTART;TZID=America/Sao_Paulo:20181017T080000
DTEND;TZID=America/Sao_Paulo:20181128T170000
DTSTAMP:20260423T194950
CREATED:20181006T171914Z
LAST-MODIFIED:20181006T171914Z
UID:1619-1539763200-1543424400@regiaocampinas.org.br
SUMMARY:Jornada da Inovação Social em Campinas
DESCRIPTION:Os centros urbanos compartilham problemas sociais complexos que impactam a sociedade civil\, empresas\, organizações e a administração pública. É com o objetivo de abordar essas situações – e suas possíveis soluções – que Campinas receberá a Jornada da Inovação Social\, uma sequência de eventos que convida os participantes à reflexão e ação sobre o tema.  \nAo todo\, teremos quatro encontros. Ao longo da programação\, os participantes poderão evoluir no tema\, abordando diferentes aspectos dos problemas sociais e contando com o apoio de uma equipe multidisciplinar durante as atividades e reflexões. O cronograma de eventos foi desenvolvido tendo como objetivo a continuidade das atividades ao longo dos dias:  \n\n17/10\, das 19h às 21h30: Meetup Inicial (gratuito). Encontro para nos conhecermos e mapearmos nossos desafios sociais complexos.\n\n10/11\, das 9h às 19h: Sessão de Imersão em Systems Thinking (pago). Oficina para aprender a mapear os elementos\, conexões e ciclos de um sistema\, e identificar pontos de alavancagem para mudanças sistêmicas.\n\n24/11\, das 9h às 18h: Sessão de Imersão em Design Thinking (pago). Oficina para descobrir oportunidades de mudança a partir das pessoas afetadas pelo problema; e a partir disso idear e prototipar soluções.\n\n28/11\, das 19h às 21h30: Meetup de Assimilação (gratuito). Reunião para compartilhar as aprendizados obtidos e definir uma rota crítica para construir uma comunidade de inovação social em Campinas.\n\n\nOs encontros são co-organizados pela Caiena Tecnologia e Design\, Housidea Hub de Inovação Social e o Colectivo de Diseño Disruptivo. Este último é o responsável por idealizar e promover os encontros em outros pontos da América Latina. Ao longo de 2018\, organizou jornadas em Lima (Peru)\, Quito (Equador)\, Bogotá (Colômbia) e Cidade do México (México).
URL:https://regiaocampinas.org.br/event/jornada-da-inovacao-social-em-campinas/
LOCATION:São Paulo
ATTACH;FMTTYPE=image/png:https://regiaocampinas.org.br/wp-content/uploads/2018/10/inovação-social-696x229.png
END:VEVENT
END:VCALENDAR